BEGIN:VCALENDAR
VERSION:2.0
PRODID:-//Girls Write Now - ECPv6.15.20//NONSGML v1.0//EN
CALSCALE:GREGORIAN
METHOD:PUBLISH
X-WR-CALNAME:Girls Write Now
X-ORIGINAL-URL:https://girlswritenow.org
X-WR-CALDESC:Events for Girls Write Now
REFRESH-INTERVAL;VALUE=DURATION:PT1H
X-Robots-Tag:noindex
X-PUBLISHED-TTL:PT1H
BEGIN:VTIMEZONE
TZID:America/New_York
BEGIN:DAYLIGHT
TZOFFSETFROM:-0500
TZOFFSETTO:-0400
TZNAME:EDT
DTSTART:20250309T070000
END:DAYLIGHT
BEGIN:STANDARD
TZOFFSETFROM:-0400
TZOFFSETTO:-0500
TZNAME:EST
DTSTART:20251102T060000
END:STANDARD
BEGIN:DAYLIGHT
TZOFFSETFROM:-0500
TZOFFSETTO:-0400
TZNAME:EDT
DTSTART:20260308T070000
END:DAYLIGHT
BEGIN:STANDARD
TZOFFSETFROM:-0400
TZOFFSETTO:-0500
TZNAME:EST
DTSTART:20261101T060000
END:STANDARD
BEGIN:DAYLIGHT
TZOFFSETFROM:-0500
TZOFFSETTO:-0400
TZNAME:EDT
DTSTART:20270314T070000
END:DAYLIGHT
BEGIN:STANDARD
TZOFFSETFROM:-0400
TZOFFSETTO:-0500
TZNAME:EST
DTSTART:20271107T060000
END:STANDARD
END:VTIMEZONE
BEGIN:VEVENT
DTSTART;TZID=America/New_York:20260420T180000
DTEND;TZID=America/New_York:20260420T190000
DTSTAMP:20260422T083759
CREATED:20260407T190416Z
LAST-MODIFIED:20260408T000649Z
UID:10001110-1776708000-1776711600@girlswritenow.org
SUMMARY:Art & Design: Exploring Artistic Forms
DESCRIPTION:This series highlights when two creatives unite\, blending perspectives\, processes and ideas while discussing and exploring new art topics. Each collaboration becomes a space for experimentation\, vulnerability and creative discovery. Participants are invited to explore their imagination\, create with us\, and share their voices. At its core the series celebrates collaboration\, curiosity and the magic that happens when creative minds meet. \nIn a world full of stress and uncertainty\, this virtual studio is a space to slow down and reconnect. We’ll move through guided art and poetry prompts focused on emotional healing and self-expression. No experience need; just come as you are.
URL:https://girlswritenow.org/event/202604041800-cs-13-art-design-exploring-artistic-forms/
ATTACH;FMTTYPE=image/jpeg:https://gwn-uploads.s3.amazonaws.com/wp-content/uploads/2026/04/07150052/CS-Art-Design.jpg
LOCATION:https://girlswritenow.org/event/202604041800-cs-13-art-design-exploring-artistic-forms/
END:VEVENT
BEGIN:VEVENT
DTSTART;TZID=America/New_York:20260420T200000
DTEND;TZID=America/New_York:20260420T210000
DTSTAMP:20260422T083759
CREATED:20260407T234038Z
LAST-MODIFIED:20260408T000255Z
UID:10001109-1776715200-1776718800@girlswritenow.org
SUMMARY:Putting the ME in Memoir
DESCRIPTION:It’s not history… it’s YOUR-story! This community studio is a space to explore striking\, resonant memoir writing in which your personal narrative is fully present and authentic. Craft writing that can be used in personal statements\, contest submissions\, or self-journaling as you explore your unique truth. \nYes\, the SETTING is a character! Learn how to utilize your setting to convey your unique perspective in a memoir.
URL:https://girlswritenow.org/event/202604042000-cs-14-putting-the-me-in-memoir/
ATTACH;FMTTYPE=image/jpeg:https://gwn-uploads.s3.amazonaws.com/wp-content/uploads/2026/04/07193934/CS-Putting-the-ME-in-Memoir.jpg
LOCATION:https://girlswritenow.org/event/202604042000-cs-14-putting-the-me-in-memoir/
END:VEVENT
END:VCALENDAR