BEGIN:VCALENDAR
VERSION:2.0
PRODID:-//Girls Write Now - ECPv6.15.20//NONSGML v1.0//EN
CALSCALE:GREGORIAN
METHOD:PUBLISH
X-WR-CALNAME:Girls Write Now
X-ORIGINAL-URL:https://girlswritenow.org
X-WR-CALDESC:Events for Girls Write Now
REFRESH-INTERVAL;VALUE=DURATION:PT1H
X-Robots-Tag:noindex
X-PUBLISHED-TTL:PT1H
BEGIN:VTIMEZONE
TZID:America/New_York
BEGIN:DAYLIGHT
TZOFFSETFROM:-0500
TZOFFSETTO:-0400
TZNAME:EDT
DTSTART:20250309T070000
END:DAYLIGHT
BEGIN:STANDARD
TZOFFSETFROM:-0400
TZOFFSETTO:-0500
TZNAME:EST
DTSTART:20251102T060000
END:STANDARD
BEGIN:DAYLIGHT
TZOFFSETFROM:-0500
TZOFFSETTO:-0400
TZNAME:EDT
DTSTART:20260308T070000
END:DAYLIGHT
BEGIN:STANDARD
TZOFFSETFROM:-0400
TZOFFSETTO:-0500
TZNAME:EST
DTSTART:20261101T060000
END:STANDARD
BEGIN:DAYLIGHT
TZOFFSETFROM:-0500
TZOFFSETTO:-0400
TZNAME:EDT
DTSTART:20270314T070000
END:DAYLIGHT
BEGIN:STANDARD
TZOFFSETFROM:-0400
TZOFFSETTO:-0500
TZNAME:EST
DTSTART:20271107T060000
END:STANDARD
END:VTIMEZONE
BEGIN:VEVENT
DTSTART;TZID=America/New_York:20260425T130000
DTEND;TZID=America/New_York:20260425T144500
DTSTAMP:20260425T073040
CREATED:20260324T142433Z
LAST-MODIFIED:20260416T161241Z
UID:10001096-1777122000-1777128300@girlswritenow.org
SUMMARY:Literature to Life Stage Presentation of The Giver
DESCRIPTION:Literature to Life stage presentation of The Giver \nBy Lois Lowry \nPerformed by Aurea Tomeski \nAdapted and Directed by Elise Thoron \nAt the age of twelve\, Jonas\, a young boy from a seemingly utopian\, futuristic world\, is singled out to receive special training from The Giver\, who alone holds the memories of the true joys and pain of life. In the process\, Jonas is forced to question everything in his ideal world: a world without conflict\, poverty\, unemployment\, divorce\, injustice\, or inequality. The Newbery-Award winning best-selling book has become the gold standard for the young adult genre. Told with deceptive simplicity\, it’s a provocative story of a boy who experiences something incredible and undertakes something impossible.
URL:https://girlswritenow.org/event/202604041300-literature-to-life-stage-presentation-of-the-giver/
LOCATION:Girls Write Now Office\, 247 W 37th Street #1000\, New York\, NY\, 10018\, United States
CATEGORIES:Special Events
ATTACH;FMTTYPE=image/jpeg:https://gwn-uploads.s3.amazonaws.com/wp-content/uploads/2026/03/24102216/Girls-Write-Now-LTL-The-Giver.jpg
END:VEVENT
END:VCALENDAR